BEGIN:VCALENDAR
VERSION:2.0
PRODID:-//hacksw/handcal//NONSGML v1.0//EN
CALSCALE:GREGORIAN
BEGIN:VEVENT
UID:69e5f9fd165c2
SEQUENCE:0
DESCRIPTION:第44回受験なんでも相談会【中学受験】
DTSTART:20250628T010000Z
DTEND:20250628T073000Z
SUMMARY:第44回受験なんでも相談会【中学受験】
LOCATION:新宿住友ビル 三角広場
URL:https://yoyaku.shingaku-soudan.com/event/99295/nandemo2025
DTSTAMP:20260420T190341Z
END:VEVENT
END:VCALENDAR