BEGIN:VCALENDAR
VERSION:2.0
PRODID:-//hacksw/handcal//NONSGML v1.0//EN
CALSCALE:GREGORIAN
BEGIN:VEVENT
UID:69ea589bde8e8
SEQUENCE:0
DESCRIPTION:第42回受験なんでも相談会【中学受験】
DTSTART:20230701T010000Z
DTEND:20230701T080000Z
SUMMARY:第42回受験なんでも相談会【中学受験】
LOCATION:新宿住友ビル 三角広場
URL:https://yoyaku.shingaku-soudan.com/event/53491/nandemo2023
DTSTAMP:20260424T023627Z
END:VEVENT
END:VCALENDAR